BEGIN:VCALENDAR
VERSION:2.0
PRODID:-//ChamberMaster//Event Calendar 2.0//EN
METHOD:PUBLISH
X-PUBLISHED-TTL:P3D
REFRESH-INTERVAL:P3D
CALSCALE:GREGORIAN
BEGIN:VEVENT
DTSTART:20111012T190000Z
DTEND:20111012T200000Z
X-MICROSOFT-CDO-ALLDAYEVENT:FALSE
SUMMARY:Webinar: How to Decipher Your True Target Market
DESCRIPTION:Space is limited.\nReserve your Webinar seat now at:\nhttps://www1.gotomeeting.com/register/669652361
X-ALT-DESC;FMTTYPE=text/html:<DIV><P style="MARGIN: 0in 0in 10pt" class=MsoNormal><SPAN style="LINE-HEIGHT: 115%\; FONT-FAMILY: 'Times New Roman'\,'serif'\; COLOR: #548dd4\; FONT-SIZE: 36pt"><STRONG><TABLE style="mso-cellspacing: 0in\; mso-yfti-tbllook: 1184\; mso-padding-alt: 0in 0in 0in 0in" class=MsoNormalTable border=0 cellSpacing=0 cellPadding=0><TBODY><TR style="mso-yfti-irow: 0\; mso-yfti-firstrow: yes\; mso-yfti-lastrow: yes"><TD style="BORDER-BOTTOM: #ece9d8\; BORDER-LEFT: #ece9d8\; PADDING-BOTTOM: 0in\; BACKGROUND-COLOR: transparent\; PADDING-LEFT: 0in\; PADDING-RIGHT: 0in\; BORDER-TOP: #ece9d8\; BORDER-RIGHT: #ece9d8\; PADDING-TOP: 0in"><P style="MARGIN: 0in 0in 0pt" class=MsoNormal><B><SPAN style="FONT-FAMILY: 'Arial'\,'sans-serif'\; FONT-SIZE: 10pt\; mso-fareast-font-family: 'Times New Roman'"><FONT size=3>Space is limited.</FONT></SPAN></B><SPAN style="FONT-FAMILY: 'Arial'\,'sans-serif'\; FONT-SIZE: 10pt\; mso-fareast-font-family: 'Times New Roman'"><BR><FONT size=3>Reserve your Webinar seat now at:<BR></FONT><A href="https://www1.gotomeeting.com/register/669652361"><FONT color=#800080 size=3>https://www1.gotomeeting.com/register/669652361</FONT></A></SPAN><SPAN style="mso-fareast-font-family: 'Times New Roman'"><?xml:namespace prefix = o ns = "urn:schemas-microsoft-com:office:office" /><o:p></o:p></SPAN></P></TD></TR></TBODY></TABLE></STRONG></SPAN></P></DIV>
LOCATION:Online: Your Home or Office Computer
UID:e.2096.940
SEQUENCE:3
DTSTAMP:20260422T105037Z
URL:https://network.garlandchamber.com/events/details/webinar-how-to-decipher-your-true-target-market-10-12-2011-940
END:VEVENT

END:VCALENDAR
