BEGIN:VCALENDAR
VERSION:2.0
PRODID:-//ChamberMaster//Event Calendar 2.0//EN
METHOD:PUBLISH
X-PUBLISHED-TTL:P3D
REFRESH-INTERVAL:P3D
CALSCALE:GREGORIAN
BEGIN:VEVENT
DTSTART:20121024T220000Z
DTEND:20121025T010000Z
X-MICROSOFT-CDO-ALLDAYEVENT:FALSE
SUMMARY:Wendy's Community Night
DESCRIPTION:Have Dinner at Wendy's and Earn Money for the Garland Firefighters Association. See Flyer for Details
X-ALT-DESC;FMTTYPE=text/html:<DIV style="FONT-FAMILY: Arial">Have Dinner at Wendy's and Earn Money for the Garland Firefighters Association.</DIV><DIV style="FONT-FAMILY: Arial">&nbsp\;</DIV><DIV style="FONT-FAMILY: Arial"><A dataFld=0:0 href="http://www.garlandchamber.com/images/stories/chamber/Member%20Promotions/Wendys%20Community%20Nights%20Flyer.pdf">See Flyer for Details</A></DIV>
LOCATION:The Wendy's Company
UID:e.2096.1103
SEQUENCE:3
DTSTAMP:20260421T175427Z
URL:https://network.garlandchamber.com/events/details/wendy-s-community-night-10-24-2012-1103
END:VEVENT

END:VCALENDAR
