BEGIN:VCALENDAR
VERSION:2.0
PRODID:-//ChamberMaster//Event Calendar 2.0//EN
METHOD:PUBLISH
X-PUBLISHED-TTL:P3D
REFRESH-INTERVAL:P3D
CALSCALE:GREGORIAN
BEGIN:VEVENT
DTSTART:20080710T143000Z
DTEND:20080710T050000Z
X-MICROSOFT-CDO-ALLDAYEVENT:FALSE
SUMMARY:Whataburger Ribbon Cutting Ceremony
DESCRIPTION:
X-ALT-DESC;FMTTYPE=text/html:
LOCATION:Whataburger
UID:e.2096.548
SEQUENCE:3
DTSTAMP:20260424T171538Z
URL:https://network.garlandchamber.com/events/details/whataburger-ribbon-cutting-ceremony-07-10-2008-548
END:VEVENT

END:VCALENDAR
