BEGIN:VCALENDAR
VERSION:2.0
PRODID:-//ChamberMaster//Event Calendar 2.0//EN
METHOD:PUBLISH
X-PUBLISHED-TTL:P3D
REFRESH-INTERVAL:P3D
CALSCALE:GREGORIAN
BEGIN:VEVENT
DTSTART:20090711T130000Z
DTEND:20090711T050000Z
X-MICROSOFT-CDO-ALLDAYEVENT:FALSE
SUMMARY:Whole Health Community Service Fundraiser
DESCRIPTION:
X-ALT-DESC;FMTTYPE=text/html:
LOCATION:Whole Health Chiropractic
UID:e.2096.386
SEQUENCE:3
DTSTAMP:20260424T011436Z
URL:https://network.garlandchamber.com/events/details/whole-health-community-service-fundraiser-07-11-2009-386
END:VEVENT

END:VCALENDAR
