BEGIN:VCALENDAR
VERSION:2.0
PRODID:-//ChamberMaster//Event Calendar 2.0//EN
METHOD:PUBLISH
X-PUBLISHED-TTL:P3D
REFRESH-INTERVAL:P3D
CALSCALE:GREGORIAN
BEGIN:VEVENT
DTSTART:20090919T150000Z
DTEND:20090920T040000Z
X-MICROSOFT-CDO-ALLDAYEVENT:FALSE
SUMMARY:Wild West Cowboy Round-Up
DESCRIPTION:
X-ALT-DESC;FMTTYPE=text/html:
LOCATION:Historic Downtown Garland
UID:e.2096.392
SEQUENCE:3
DTSTAMP:20260423T220917Z
URL:https://network.garlandchamber.com/events/details/wild-west-cowboy-round-up-09-19-2009-392
END:VEVENT

END:VCALENDAR
