BEGIN:VCALENDAR
VERSION:2.0
PRODID:-//ChamberMaster//Event Calendar 2.0//EN
METHOD:PUBLISH
X-PUBLISHED-TTL:P3D
REFRESH-INTERVAL:P3D
CALSCALE:GREGORIAN
BEGIN:VEVENT
DTSTART:20090715T220000Z
DTEND:20090716T000000Z
X-MICROSOFT-CDO-ALLDAYEVENT:FALSE
SUMMARY:Winter's Park Assisted Living & Memory Care Ribbon Cutting
DESCRIPTION:
X-ALT-DESC;FMTTYPE=text/html:
LOCATION:Winters Park Assisted Living & Memory Care
UID:e.2096.651
SEQUENCE:3
DTSTAMP:20260424T023457Z
URL:https://network.garlandchamber.com/events/details/winter-s-park-assisted-living-memory-care-ribbon-cutting-07-15-2009-651
END:VEVENT

END:VCALENDAR
