BEGIN:VCALENDAR
VERSION:2.0
PRODID:-//ChamberMaster//Event Calendar 2.0//EN
METHOD:PUBLISH
X-PUBLISHED-TTL:P3D
REFRESH-INTERVAL:P3D
CALSCALE:GREGORIAN
BEGIN:VEVENT
DTSTART:20081113T060000Z
DTEND:20081213T060000Z
X-MICROSOFT-CDO-ALLDAYEVENT:FALSE
SUMMARY:Winter's Park Toys for Tots Dr.
DESCRIPTION:
X-ALT-DESC;FMTTYPE=text/html:
LOCATION:Winter's Park Nursing & Rehabilitation
UID:e.2096.499
SEQUENCE:3
DTSTAMP:20260424T105401Z
URL:https://network.garlandchamber.com/events/details/winter-s-park-toys-for-tots-dr-11-13-2008-499
END:VEVENT

END:VCALENDAR
