BEGIN:VCALENDAR
VERSION:2.0
PRODID:-//ChamberMaster//Event Calendar 2.0//EN
METHOD:PUBLISH
X-PUBLISHED-TTL:P3D
REFRESH-INTERVAL:P3D
CALSCALE:GREGORIAN
BEGIN:VEVENT
DTSTART:20090415T161500Z
DTEND:20090415T180000Z
X-MICROSOFT-CDO-ALLDAYEVENT:FALSE
SUMMARY:Women of Visionary Influence
DESCRIPTION:
X-ALT-DESC;FMTTYPE=text/html:
LOCATION:Gloria's - Firewheel
UID:e.2096.661
SEQUENCE:3
DTSTAMP:20260424T063740Z
URL:https://network.garlandchamber.com/events/details/women-of-visionary-influence-04-15-2009-661
END:VEVENT

END:VCALENDAR
