BEGIN:VCALENDAR
VERSION:2.0
PRODID:-//ChamberMaster//Event Calendar 2.0//EN
METHOD:PUBLISH
X-PUBLISHED-TTL:P3D
REFRESH-INTERVAL:P3D
CALSCALE:GREGORIAN
BEGIN:VEVENT
DTSTART:20100122T000000Z
DTEND:20100122T020000Z
X-MICROSOFT-CDO-ALLDAYEVENT:FALSE
SUMMARY:Young Professionals Joint Networking Event
DESCRIPTION:Join us for an evening of Hollywood…Red Carpet fun! Join the Dallas Regional\, East Dallas\, Garland\, McKinney\, Mesquite\, Plano\, Richardson\, Rowlett\, and Oak Cliff Chambers of Commerce for our 2nd Annual Joint Young Professional Networking Event. Come out to network with DFW professionals. Bring plenty of business cards and marketing materials! FREE! Sponsored by: UT Dallas EMBA Program\, School of Mgmt. and Brookhaven Country Club. Appetizers will be provided! Cash bar with Happy Hour pricing! Please feel free to invite a guest!
X-ALT-DESC;FMTTYPE=text/html:<DIV><P class=MsoPlainText style="MARGIN: 0in 0in 0pt\; TEXT-ALIGN: center" align=center><FONT face="Tempus Sans ITC"><SPAN class=generalbody><SPAN style="FONT-SIZE: 12pt\; COLOR: black\; mso-bidi-font-family: Arial">Join us for an evening of Hollywood…</SPAN></SPAN><SPAN class=generalbody><SPAN style="FONT-SIZE: 12pt\; COLOR: red\; mso-bidi-font-family: Arial">Red</SPAN></SPAN><SPAN class=generalbody><SPAN style="FONT-SIZE: 12pt\; COLOR: black\; mso-bidi-font-family: Arial"> Carpet fun!<?xml:namespace prefix = o ns = "urn:schemas-microsoft-com:office:office" /><o:p></o:p></SPAN></SPAN></FONT></P><P class=MsoPlainText style="MARGIN: 0in 0in 0pt"><SPAN class=generalbody><SPAN style="FONT-SIZE: 12pt\; COLOR: black\; mso-bidi-font-family: Arial"><o:p><FONT face="Tempus Sans ITC">&nbsp\;</FONT></o:p></SPAN></SPAN></P><P class=MsoPlainText style="MARGIN: 0in 0in 0pt"><FONT face="Tempus Sans ITC"><SPAN class=generalbody><SPAN style="FONT-SIZE: 12pt\; COLOR: black\; mso-bidi-font-family: Arial">Join the </SPAN></SPAN><SPAN style="FONT-SIZE: 12pt">Dallas Regional\, East Dallas\, Garland\, McKinney\, Mesquite\, Plano\, Richardson\, Rowlett\, and Oak Cliff Chambers of Commerce for our 2<SUP>nd</SUP> Annual Joint Young Professional Networking Event. Come out to network with DFW professionals. Bring plenty of business cards and marketing materials! FREE!<o:p></o:p></SPAN></FONT></P><P class=MsoPlainText style="MARGIN: 0in 0in 0pt"><SPAN style="FONT-SIZE: 12pt"><o:p><FONT face="Tempus Sans ITC">&nbsp\;</FONT></o:p></SPAN></P><P class=MsoPlainText style="MARGIN: 0in 0in 0pt"><FONT face="Tempus Sans ITC"><B style="mso-bidi-font-weight: normal"><SPAN style="FONT-SIZE: 12pt">Sponsored by</SPAN></B><SPAN style="FONT-SIZE: 12pt">: UT Dallas EMBA Program\, School of Mgmt. and Brookhaven Country Club.<o:p></o:p></SPAN></FONT></P><P class=MsoPlainText style="MARGIN: 0in 0in 0pt"><o:p><FONT face="Tempus Sans ITC">&nbsp\;</FONT></o:p></P><P class=MsoPlainText style="MARGIN: 0in 0in 0pt"><SPAN style="FONT-SIZE: 12pt"><FONT face="Tempus Sans ITC">Appetizers will be provided! Cash bar with Happy Hour pricing! <o:p></o:p></FONT></SPAN></P><SPAN style="FONT-SIZE: 12pt\; LINE-HEIGHT: 115%\; FONT-FAMILY: 'Calibri'\,'sans-serif'\; mso-bidi-font-family: 'Times New Roman'\; mso-ascii-theme-font: minor-latin\; mso-fareast-font-family: Calibri\; mso-fareast-theme-font: minor-latin\; mso-hansi-theme-font: minor-latin\; mso-bidi-theme-font: minor-bidi\; mso-ansi-language: EN-US\; mso-fareast-language: EN-US\; mso-bidi-language: AR-SA"><P class=MsoNormal style="MARGIN: 0in 0in 10pt"><SPAN style="FONT-SIZE: 12pt\; LINE-HEIGHT: 115%\; FONT-FAMILY: 'Tempus Sans ITC'">Please feel free to invite a guest!<o:p></o:p></SPAN></P></SPAN></DIV>
LOCATION:Brookhaven Country Club (Main Clubhouse)
UID:e.2096.742
SEQUENCE:3
DTSTAMP:20260423T163603Z
URL:https://network.garlandchamber.com/events/details/young-professionals-joint-networking-event-01-21-2010-742
END:VEVENT

END:VCALENDAR
