BEGIN:VCALENDAR
VERSION:2.0
PRODID:-//ChamberMaster//Event Calendar 2.0//EN
METHOD:PUBLISH
X-PUBLISHED-TTL:P3D
REFRESH-INTERVAL:P3D
CALSCALE:GREGORIAN
BEGIN:VEVENT
DTSTART:20130517T000000Z
DTEND:20130517T020000Z
X-MICROSOFT-CDO-ALLDAYEVENT:FALSE
SUMMARY:Youth Class IX Graduation 2012-2013
DESCRIPTION:
X-ALT-DESC;FMTTYPE=text/html:
LOCATION:
UID:e.2096.1190
SEQUENCE:3
DTSTAMP:20260421T073732Z
URL:https://network.garlandchamber.com/events/details/youth-class-ix-graduation-2012-2013-05-16-2013-1190
END:VEVENT

END:VCALENDAR
