BEGIN:VCALENDAR
VERSION:2.0
PRODID:-//ChamberMaster//Event Calendar 2.0//EN
METHOD:PUBLISH
X-PUBLISHED-TTL:P3D
REFRESH-INTERVAL:P3D
CALSCALE:GREGORIAN
BEGIN:VEVENT
DTSTART:20120508T050000Z
DTEND:20120508T050000Z
X-MICROSOFT-CDO-ALLDAYEVENT:FALSE
SUMMARY:Youth Class VIII Graduation 2011-2012
DESCRIPTION:Youth Class VIII Graduation 2011-2012
X-ALT-DESC;FMTTYPE=text/html:Youth Class VIII Graduation 2011-2012
LOCATION:
UID:e.2096.2426
SEQUENCE:3
DTSTAMP:20260422T010326Z
URL:https://network.garlandchamber.com/events/details/youth-class-viii-graduation-2011-2012-05-08-2012-2426
END:VEVENT

END:VCALENDAR
