BEGIN:VCALENDAR
VERSION:2.0
PRODID:-//ChamberMaster//Event Calendar 2.0//EN
METHOD:PUBLISH
X-PUBLISHED-TTL:P3D
REFRESH-INTERVAL:P3D
CALSCALE:GREGORIAN
BEGIN:VEVENT
DTSTART:20100511T233000Z
DTEND:20100512T020000Z
X-MICROSOFT-CDO-ALLDAYEVENT:FALSE
SUMMARY:Youth L.G. Class VI Graduation
DESCRIPTION:
X-ALT-DESC;FMTTYPE=text/html:
LOCATION:The Atrium at the Granville Arts Center
UID:e.2096.792
SEQUENCE:3
DTSTAMP:20260423T104739Z
URL:https://network.garlandchamber.com/events/details/youth-l-g-class-vi-graduation-05-11-2010-792
END:VEVENT

END:VCALENDAR
