BEGIN:VCALENDAR
VERSION:2.0
PRODID:-//ChamberMaster//Event Calendar 2.0//EN
METHOD:PUBLISH
X-PUBLISHED-TTL:P3D
REFRESH-INTERVAL:P3D
CALSCALE:GREGORIAN
BEGIN:VEVENT
DTSTART:20111018T050000Z
DTEND:20120508T050000Z
X-MICROSOFT-CDO-ALLDAYEVENT:FALSE
SUMMARY:Youth Leadership 2011-2012
DESCRIPTION:Youth Leadership 2011-2012
X-ALT-DESC;FMTTYPE=text/html:Youth Leadership 2011-2012
LOCATION:
UID:e.2096.2343
SEQUENCE:3
DTSTAMP:20260422T010212Z
URL:https://network.garlandchamber.com/events/details/youth-leadership-2011-2012-10-18-2011-2343
END:VEVENT

END:VCALENDAR
