BEGIN:VCALENDAR
VERSION:2.0
PRODID:-//ChamberMaster//Event Calendar 2.0//EN
METHOD:PUBLISH
X-PUBLISHED-TTL:P3D
REFRESH-INTERVAL:P3D
CALSCALE:GREGORIAN
BEGIN:VEVENT
DTSTART:20060913T050000Z
DTEND:20070515T050000Z
X-MICROSOFT-CDO-ALLDAYEVENT:FALSE
SUMMARY:Youth Leadership Garland 2006-2007
DESCRIPTION:
X-ALT-DESC;FMTTYPE=text/html:
LOCATION:
UID:e.2096.324
SEQUENCE:3
DTSTAMP:20260425T133414Z
URL:https://network.garlandchamber.com/events/details/youth-leadership-garland-2006-2007-09-13-2006-324
END:VEVENT

END:VCALENDAR
