BEGIN:VCALENDAR
VERSION:2.0
PRODID:-//ChamberMaster//Event Calendar 2.0//EN
METHOD:PUBLISH
X-PUBLISHED-TTL:P3D
REFRESH-INTERVAL:P3D
CALSCALE:GREGORIAN
BEGIN:VEVENT
DTSTART:20100914T133000Z
DTEND:20110510T223000Z
X-MICROSOFT-CDO-ALLDAYEVENT:FALSE
SUMMARY:Youth Leadership Garland 2010 - 2011
DESCRIPTION:
X-ALT-DESC;FMTTYPE=text/html:
LOCATION:
UID:e.2096.815
SEQUENCE:3
DTSTAMP:20260422T175802Z
URL:https://network.garlandchamber.com/events/details/youth-leadership-garland-2010-2011-09-14-2010-815
END:VEVENT

END:VCALENDAR
