BEGIN:VCALENDAR
VERSION:2.0
PRODID:-//ChamberMaster//Event Calendar 2.0//EN
METHOD:PUBLISH
X-PUBLISHED-TTL:P3D
REFRESH-INTERVAL:P3D
CALSCALE:GREGORIAN
BEGIN:VEVENT
DTSTART:20140516T000000Z
DTEND:20140516T020000Z
X-MICROSOFT-CDO-ALLDAYEVENT:FALSE
SUMMARY:Youth Leadership Garland - Graduation Class 10 (2013-2014)
DESCRIPTION:
X-ALT-DESC;FMTTYPE=text/html:
LOCATION:The Atrium 300 N. Fifth Street Garland\, TX 75040
UID:e.2096.2632
SEQUENCE:3
DTSTAMP:20260420T133924Z
URL:https://network.garlandchamber.com/events/details/youth-leadership-garland-graduation-class-10-2013-2014-05-15-2014-2632
END:VEVENT

END:VCALENDAR
