BEGIN:VCALENDAR
VERSION:2.0
PRODID:-//ChamberMaster//Event Calendar 2.0//EN
METHOD:PUBLISH
X-PUBLISHED-TTL:P3D
REFRESH-INTERVAL:P3D
CALSCALE:GREGORIAN
BEGIN:VEVENT
DTSTART:20150515T000000Z
DTEND:20150515T020000Z
X-MICROSOFT-CDO-ALLDAYEVENT:FALSE
SUMMARY:Youth Leadership Garland Graduation - Class 11 (2014-2015)
DESCRIPTION:Youth Leadership Garland Graduation - Class 11
X-ALT-DESC;FMTTYPE=text/html:Youth Leadership Garland Graduation - Class 11
LOCATION:Garland Fire Department Administration Building 1500 Highway 66 Garland TX 75040
UID:e.2096.2803
SEQUENCE:3
DTSTAMP:20260419T192929Z
URL:https://network.garlandchamber.com/events/details/youth-leadership-garland-graduation-class-11-2014-2015-05-14-2015-2803
END:VEVENT

END:VCALENDAR
